BEGIN:VCALENDAR
VERSION:2.0
CALSCALE:GREGORIAN
PRODID:-//Radu & Cosmina Wedding//Invitation//RO
METHOD:PUBLISH
BEGIN:VEVENT
UID:wedding-ceremony-radu-cosmina-20260711@invitatie.local
DTSTAMP:20260221T120000Z
DTSTART:20260711T090000Z
DTEND:20260711T110000Z
SUMMARY:Ceremonie nunta - Radu & Cosmina
LOCATION:Domnita Balasa Church\, Strada Sfintii Apostoli 60\, 040091 Bucuresti
DESCRIPTION:Ceremonia religioasa incepe la ora 12:00.
END:VEVENT
BEGIN:VEVENT
UID:wedding-reception-radu-cosmina-20260711@invitatie.local
DTSTAMP:20260221T120000Z
DTSTART:20260711T140000Z
DTEND:20260712T000000Z
SUMMARY:Receptie nunta - Radu & Cosmina
LOCATION:Baroque Events & Garden\, Calea Rahovei 145\, 050891 Bucuresti
DESCRIPTION:Receptia incepe la ora 17:00.
END:VEVENT
END:VCALENDAR
